BEGIN:VCALENDAR
VERSION:2.0
PRODID:-// - ECPv6.2.2.1//NONSGML v1.0//EN
CALSCALE:GREGORIAN
METHOD:PUBLISH
X-ORIGINAL-URL:https://ich-offen-sive.de
X-WR-CALDESC:Veranstaltungen für 
REFRESH-INTERVAL;VALUE=DURATION:PT1H
X-Robots-Tag:noindex
X-PUBLISHED-TTL:PT1H
BEGIN:VTIMEZONE
TZID:Europe/Berlin
BEGIN:DAYLIGHT
TZOFFSETFROM:+0100
TZOFFSETTO:+0200
TZNAME:CEST
DTSTART:20230326T010000
END:DAYLIGHT
BEGIN:STANDARD
TZOFFSETFROM:+0200
TZOFFSETTO:+0100
TZNAME:CET
DTSTART:20231029T010000
END:STANDARD
END:VTIMEZONE
BEGIN:VEVENT
DTSTART;VALUE=DATE:20231104
DTEND;VALUE=DATE:20231106
DTSTAMP:20260423T151258
CREATED:20230929T180452Z
LAST-MODIFIED:20230929T193202Z
UID:6238-1699056000-1699228799@ich-offen-sive.de
SUMMARY:Schnitzworkshop mit MAORI-Ältesten TOROA Aperahama (Neuseeland)
DESCRIPTION:Unter der Anleitung von TOROA Aperahama\,\nMaori-Ältester und wisdom keeper\,\nschnitzt Du Dein eigenes magisches Carving. \nToroa stellt traditionelle Maori-Formen und Materialien vor und bespricht ihre Bedeutung und Handhabung. Auch traditionelle Rituale werden erklärt und ausgeübt\, damit Du Dein eigenes magisches Objekt herstellen kannst. \nMaterial und Werkzeuge werden zur Verfügung gestellt bzw können auch mitgebracht werden.\nGeschnitzt werden Rinderknochen\, Holz oder eigene Steine. \nAm Ende des Workshops hast Du Dein fertiges magisches TAONGA plus Werkzeug um weiter schnitzen zu können. \nDie Teilnahme kostet 230 €.\n\n\nAnmeldungen über: k.winkler@gmx.fr oder 0033 66 61 48 25 39 \n\nFor English speakers :\nmore information and easy registration form\nhttps://ich-offen-sive.de/traditional-maori-carving…/
URL:https://ich-offen-sive.de/event/schnitzworkshop-mit-maori-aeltesten-toroa-aperahama-neuseeland/
LOCATION:WasmitHerz e.V. Übersee Container\, Fössestraße 103\, Hannover\, Niedersachsen\, 30453\, Deutschland
ORGANIZER;CN="Toroa & Kathrin":MAILTO:k.winkler@gmx.fr
END:VEVENT
BEGIN:VEVENT
DTSTART;VALUE=DATE:20231123
DTEND;VALUE=DATE:20231127
DTSTAMP:20260423T151258
CREATED:20230929T191409Z
LAST-MODIFIED:20230929T193306Z
UID:6255-1700697600-1701043199@ich-offen-sive.de
SUMMARY:Retreat UNSEEN WORLD  mit TOROA Aperahama\, Schwarzwald
DESCRIPTION:.\nFür ALLE\,\ndie AKTIV\nin unserer manifesten Welt\nWIRKEN WOLLEN\,\nbietet dieses außergewöhnliche RETREAT eine Möglichkeit\,\ndie Kraft der unsichtbaren Welten für sich zu entdecken\,\num leichter und wirkungsvoller not-wendige VERÄNDERUNGEN auf der Erde zu initiieren\, voranzubringen und integrieren\,\nneuen Werten in allen Lebensbereichen neue WIRKkraft und WIRKlichkeit zu verleihen..\n\nWir SIND ganz natürlich und ursprünglich Teil der Natur\, Planet Erdes und allem\, was uns umgibt. \nDas Retreat findet nicht weit entfernt von einem uralten keltischen Kultplatz statt.\nToroa möchte mit uns rausgehen und uns in die Erfahrung und Verbindung mit den unsichtbaren Dimensionen bringen\, uns zeigen\, wie man tohu liest\, die Zeichen und Sprache der unseen world. Interview mit Toroa zum Retreat \n\nMit altem Wissen neue Wege und Möglichkeiten entdecken \n\nWIR & JETZT für unsere KINDER\nWIR & JETZT für unsere ZUKUNFT\n\nIn kleinem Kreis werden wir intensiv neue Möglichkeiten für unsere Welt erforschen um Visionen konkret umzusetzen.\n. \nDie Teilnahme kostet 380 €.\nMan kann direkt vor Ort im LEO-Hof Zimmer buchen und es gibt eine Verpflegungspauschale von 150€ für den gesamten Retreatzeitraum.\nEinschreibung hier : https://ich-offen-sive.de/anmeldung-retreat-schwarzwald-2023/\n.\nFor english speaker :\nhttps://ich-offen-sive.de/retreat-unseen-world-black-forest-2023/
URL:https://ich-offen-sive.de/event/retreat-unseen-world-mit-toroa-aperahama-schwarzwald/
LOCATION:Hof LEO\, Gresgen 40\, Zell im Wiesental\, 79669
ORGANIZER;CN="Toroa & Kathrin":MAILTO:k.winkler@gmx.fr
END:VEVENT
END:VCALENDAR